BEGIN:VCALENDAR
VERSION:2.0
PRODID:-//Similkameen Independent Winegrowers - ECPv6.15.20//NONSGML v1.0//EN
CALSCALE:GREGORIAN
METHOD:PUBLISH
X-ORIGINAL-URL:https://www.similkameenwine.com
X-WR-CALDESC:Events for Similkameen Independent Winegrowers
REFRESH-INTERVAL;VALUE=DURATION:PT1H
X-Robots-Tag:noindex
X-PUBLISHED-TTL:PT1H
BEGIN:VTIMEZONE
TZID:America/Vancouver
BEGIN:DAYLIGHT
TZOFFSETFROM:-0800
TZOFFSETTO:-0700
TZNAME:PDT
DTSTART:20250309T100000
END:DAYLIGHT
BEGIN:STANDARD
TZOFFSETFROM:-0700
TZOFFSETTO:-0800
TZNAME:PST
DTSTART:20251102T090000
END:STANDARD
BEGIN:DAYLIGHT
TZOFFSETFROM:-0800
TZOFFSETTO:-0700
TZNAME:PDT
DTSTART:20260308T100000
END:DAYLIGHT
BEGIN:STANDARD
TZOFFSETFROM:-0700
TZOFFSETTO:-0800
TZNAME:PST
DTSTART:20261101T090000
END:STANDARD
BEGIN:DAYLIGHT
TZOFFSETFROM:-0800
TZOFFSETTO:-0700
TZNAME:PDT
DTSTART:20270314T100000
END:DAYLIGHT
BEGIN:STANDARD
TZOFFSETFROM:-0700
TZOFFSETTO:-0800
TZNAME:PST
DTSTART:20271107T090000
END:STANDARD
END:VTIMEZONE
BEGIN:VEVENT
DTSTART;TZID=America/Vancouver:20260509T110000
DTEND;TZID=America/Vancouver:20260509T170000
DTSTAMP:20260424T061241
CREATED:20260411T192403Z
LAST-MODIFIED:20260413T164839Z
UID:862-1778324400-1778346000@www.similkameenwine.com
SUMMARY:Petals & Pours: Similkameen Spring Open House
DESCRIPTION:May 9–10\, 2026 \n\n\n\nJoin us for Petals & Pours: Similkameen Spring Open Hours on Mother’s Day weekend\, May 9 -10\, 2026. The Similkameen Valley welcomes you for a weekend of celebration\, connection\, and the simple pleasure of discovering new releases. \n\n\n\nPetals & Pours is a relaxed\, open house-style event taking place across participating wineries and cideries throughout the valley. It’s the perfect way to spend Mother’s Day weekend — whether you’re planning a scenic day trip or a full weekend escape. \n\n\n\nAs the valley comes back to life\, our producers are opening their doors to share their latest wine and cider releases\, inviting you to taste what’s new\, revisit your favourites\, and experience the Similkameen at its most welcoming. \n\n\n\nHow It Works\n\n\n\n\nVisit participating wineries and cideries across the Similkameen\n\n\n\nEnjoy complimentary tastings all day\n\n\n\nThe first 12 visitors at each location (each day) will receive a complimentary flower stem\n\n\n\nVisit multiple stops\, collect stems\, and build your own bouquet as you go\n\n\n\n\nIt’s a simple\, thoughtful way to explore the valley — one sip\, one stop\, and one bloom at a time. \n\n\n\nPlan Your Visit\n\n\n\nEach tasting room will be open based on their individual spring hours. We recommend planning your route in advance to make the most of your weekend. \n\n\n\n👉 View full tasting room hours and participating locations here:Tasting Room Hours Page \n\n\n\nWhether you’re celebrating Mother’s Day\, gathering with friends\, or simply looking for a reason to get out and explore\, Petals & Pours is your invitation to slow down\, sip\, and experience the Similkameen in bloom. \n\n\n\nWe look forward to welcoming you. \n\n\n\nParticipating Wineries & Cideries\n\n\n\n\n3Benches Estate Winery\n\n\n\nBottega Wine Studio\n\n\n\nClos du Soleil Winery\n\n\n\nCorcelettes Estate Winery\n\n\n\nCrowsnest Vineyards\n\n\n\nForbidden Fruit Winery\n\n\n\nHugging Tree Winery\n\n\n\nKlippers Untangled Cider \n\n\n\nOrofino Vineyards\n\n\n\nRobin Ridge Winery\n\n\n\nSeven Stones Winery\n\n\n\nVanessa Vineyard\n\n\n\nTwisted Hills Craft Cider
URL:https://www.similkameenwine.com/event/similkameen-spring-open-house/
ATTACH;FMTTYPE=image/png:https://www.similkameenwine.com/wp-content/uploads/2026/04/Instagram-Post-Petals-Pours-2026.png
END:VEVENT
BEGIN:VEVENT
DTSTART;TZID=America/Vancouver:20260510T110000
DTEND;TZID=America/Vancouver:20260510T170000
DTSTAMP:20260424T061241
CREATED:20260411T200402Z
LAST-MODIFIED:20260413T164714Z
UID:874-1778410800-1778432400@www.similkameenwine.com
SUMMARY:Petals & Pours: Similkameen Spring Open House
DESCRIPTION:May 9–10\, 2026 \n\n\n\nJoin us for Petals & Pours: Similkameen Spring Open House on Mother’s Day weekend\, May 9 -10\, 2026. The Similkameen Valley welcomes you for a weekend of celebration\, connection\, and the simple pleasure of discovering our new releases. \n\n\n\nPetals & Pours is a relaxed\, open house-style event taking place across participating wineries and cideries throughout the valley. It’s the perfect way to spend Mother’s Day weekend — whether you’re planning a scenic day trip or a full weekend escape. \n\n\n\nAs the valley comes back to life\, our producers are opening their doors to share their latest wine and cider releases\, inviting you to taste what’s new\, revisit your favourites\, and experience the Similkameen at its most welcoming. \n\n\n\nHow It Works\n\n\n\n\nVisit participating wineries and cideries across the Similkameen\n\n\n\nEnjoy complimentary tastings all day\n\n\n\nThe first 12 visitors at each location (each day) will receive a complimentary flower stem\n\n\n\nVisit multiple stops\, collect stems\, and build your own bouquet as you go\n\n\n\n\nIt’s a simple\, thoughtful way to explore the valley — one sip\, one stop\, and one bloom at a time. \n\n\n\nPlan Your Visit\n\n\n\nEach tasting room will be open based on their individual spring hours. We recommend planning your route in advance to make the most of your weekend. \n\n\n\n👉 View full tasting room hours at participating locations here:Tasting Room Hours Page \n\n\n\nWhether you’re celebrating Mother’s Day\, gathering with friends\, or simply looking for a reason to get out and explore\, Petals & Pours is your invitation to slow down\, sip\, and experience the Similkameen in bloom. \n\n\n\nWe look forward to welcoming you. \n\n\n\nParticipating Wineries & Cideries\n\n\n\n\n3Benches Estate Winery\n\n\n\nBottega Wine Studio\n\n\n\nClos du Soleil Winery\n\n\n\nCorcelettes Estate Winery\n\n\n\nCrowsnest Vineyards\n\n\n\nForbidden Fruit Winery\n\n\n\nHugging Tree Winery\n\n\n\nKlippers Untangled Cider \n\n\n\nOrofino Vineyards\n\n\n\nRobin Ridge Winery\n\n\n\nSeven Stones Winery\n\n\n\nVanessa Vineyard\n\n\n\nTwisted Hills Craft Cider
URL:https://www.similkameenwine.com/event/petals-pours-similkameen-spring-open-house/
ATTACH;FMTTYPE=image/png:https://www.similkameenwine.com/wp-content/uploads/2026/04/Instagram-Post-Petals-Pours-2026-1.png
END:VEVENT
END:VCALENDAR